{"text_format":"1","workbook":"xlsx","n_sheets":2,"sheets":["様式第６号の２「表紙」","様式第６号の２「入力シート」"],"not_rendered":{"charts":0,"images":0,"macros":0,"external_links":0,"defined_names":2,"comments":1,"pivot_tables":0},"unopened":[],"bounds":{"document_bytes":16777216,"sheet_cells":100000,"rows_first":2000,"rows_last":500,"rows_between":2000,"halvings":0,"cell_chars":16384,"cell_head_chars":4096},"cells_cut":0,"cells_raw":0,"read":"whole","date_system":"1900"}

{"sheet":"様式第６号の２「表紙」","index":0,"n_rows":23,"n_cols":21,"rows_kept":23,"cut":false,"hidden":false,"merged":[[4,0,4,24],[9,3,9,20],[11,3,11,20],[24,3,24,4],[24,9,24,10],[24,12,24,13],[17,0,17,1],[9,0,9,1],[11,0,11,1],[13,0,13,1],[15,0,15,1],[19,0,19,1],[21,0,21,1],[27,3,27,7],[21,8,21,9],[21,10,21,15],[6,17,6,24],[7,17,7,24]]}
["様式第６号の２（表紙）",null,null,null,null,null,null,null,null,null,null,null,null,null,null,"Ver01"]
[]
[]
[]
["建設工事入札参加資格調書（その１　県外業者用）　　　　　　"]
[]
[null,null,null,null,null,null,null,null,null,null,null,null,null,null,null,null,null,"事務局使用欄"]
[]
[]
["商号又は名称",null,null,{"$f":"IF(様式第６号の２「入力シート」!$I$3=\"\",\"\",様式第６号の２「入力シート」!$I$3)","v":""}]
[]
["代表者氏名",null,null,{"$f":"IF(様式第６号の２「入力シート」!$I$4=\"\",\"\",様式第６号の２「入力シート」!$I$4)","v":""}]
[]
["大臣・知事コード",null,"①",{"$f":"IF(様式第６号の２「入力シート」!$I$5=\"\",\"\",様式第６号の２「入力シート」!$I$5)","v":""},{"$f":"IF(様式第６号の２「入力シート」!$J$5=\"\",\"\",様式第６号の２「入力シート」!$J$5)","v":""},"―",{"$f":"IF(様式第６号の２「入力シート」!$L$5=\"\",\"\",様式第６号の２「入力シート」!$L$5)","v":""},{"$f":"IF(様式第６号の２「入力シート」!$M$5=\"\",\"\",様式第６号の２「入力シート」!$M$5)","v":""},{"$f":"IF(様式第６号の２「入力シート」!$N$5=\"\",\"\",様式第６号の２「入力シート」!$N$5)","v":""},{"$f":"IF(様式第６号の２「入力シート」!$O$5=\"\",\"\",様式第６号の２「入力シート」!$O$5)","v":""},{"$f":"IF(様式第６号の２「入力シート」!$P$5=\"\",\"\",様式第６号の２「入力シート」!$P$5)","v":""},{"$f":"IF(様式第６号の２「入力シート」!$Q$5=\"\",\"\",様式第６号の２「入力シート」!$Q$5)","v":""},{"$f":"IF(様式第６号の２「入力シート」!$I$6=\"\",\"\",様式第６号の２「入力シート」!$I$6)","v":""},{"$f":"IF(様式第６号の２「入力シート」!$J$6=\"\",\"\",様式第６号の２「入力シート」!$J$6)","v":""},"―",{"$f":"IF(様式第６号の２「入力シート」!$L$6=\"\",\"\",様式第６号の２「入力シート」!$L$6)","v":""},{"$f":"IF(様式第６号の２「入力シート」!$M$6=\"\",\"\",様式第６号の２「入力シート」!$M$6)","v":""},{"$f":"IF(様式第６号の２「入力シート」!$N$6=\"\",\"\",様式第６号の２「入力シート」!$N$6)","v":""},{"$f":"IF(様式第６号の２「入力シート」!$O$6=\"\",\"\",様式第６号の２「入力シート」!$O$6)","v":""},{"$f":"IF(様式第６号の２「入力シート」!$P$6=\"\",\"\",様式第６号の２「入力シート」!$P$6)","v":""},{"$f":"IF(様式第６号の２「入力シート」!$Q$6=\"\",\"\",様式第６号の２「入力シート」!$Q$6)","v":""}]
[]
["審査基準日",null,"②",{"$f":"IF(様式第６号の２「入力シート」!$I$7=\"\",\"\",様式第６号の２「入力シート」!$I$7)","v":""},{"$f":"IF(様式第６号の２「入力シート」!$J$7=\"\",\"\",様式第６号の２「入力シート」!$J$7)","v":""},"年",{"$f":"IF(様式第６号の２「入力シート」!$L$7=\"\",\"\",様式第６号の２「入力シート」!$L$7)","v":""},{"$f":"IF(様式第６号の２「入力シート」!$M$7=\"\",\"\",様式第６号の２「入力シート」!$M$7)","v":""},"月",{"$f":"IF(様式第６号の２「入力シート」!$O$7=\"\",\"\",様式第６号の２「入力シート」!$O$7)","v":""},{"$f":"IF(様式第６号の２「入力シート」!$P$7=\"\",\"\",様式第６号の２「入力シート」!$P$7)","v":""},"日"]
[]
["主たる営業所の電話番号",null,"③",{"$f":"IF(様式第６号の２「入力シート」!$I$8=\"\",\"\",様式第６号の２「入力シート」!$I$8)","v":""},{"$f":"IF(様式第６号の２「入力シート」!$J$8=\"\",\"\",様式第６号の２「入力シート」!$J$8)","v":""},{"$f":"IF(様式第６号の２「入力シート」!$K$8=\"\",\"\",様式第６号の２「入力シート」!$K$8)","v":""},{"$f":"IF(様式第６号の２「入力シート」!$L$8=\"\",\"\",様式第６号の２「入力シート」!$L$8)","v":""},{"$f":"IF(様式第６号の２「入力シート」!$M$8=\"\",\"\",様式第６号の２「入力シート」!$M$8)","v":""},{"$f":"IF(様式第６号の２「入力シート」!$N$8=\"\",\"\",様式第６号の２「入力シート」!$N$8)","v":""},{"$f":"IF(様式第６号の２「入力シート」!$O$8=\"\",\"\",様式第６号の２「入力シート」!$O$8)","v":""},{"$f":"IF(様式第６号の２「入力シート」!$P$8=\"\",\"\",様式第６号の２「入力シート」!$P$8)","v":""},{"$f":"IF(様式第６号の２「入力シート」!$Q$8=\"\",\"\",様式第６号の２「入力シート」!$Q$8)","v":""},{"$f":"IF(様式第６号の２「入力シート」!$R$8=\"\",\"\",様式第６号の２「入力シート」!$R$8)","v":""},{"$f":"IF(様式第６号の２「入力シート」!$S$8=\"\",\"\",様式第６号の２「入力シート」!$S$8)","v":""},{"$f":"IF(様式第６号の２「入力シート」!$T$8=\"\",\"\",様式第６号の２「入力シート」!$T$8)","v":""},{"$f":"IF(様式第６号の２「入力シート」!$U$8=\"\",\"\",様式第６号の２「入力シート」!$U$8)","v":""}]
[]
["法人番号",null,"④",{"$f":"IF(様式第６号の２「入力シート」!$I$11=\"\",\"\",様式第６号の２「入力シート」!$I$11)","v":""},{"$f":"IF(様式第６号の２「入力シート」!$J$11=\"\",\"\",様式第６号の２「入力シート」!$J$11)","v":""},{"$f":"IF(様式第６号の２「入力シート」!$K$11=\"\",\"\",様式第６号の２「入力シート」!$K$11)","v":""},{"$f":"IF(様式第６号の２「入力シート」!$L$11=\"\",\"\",様式第６号の２「入力シート」!$L$11)","v":""},{"$f":"IF(様式第６号の２「入力シート」!$M$11=\"\",\"\",様式第６号の２「入力シート」!$M$11)","v":""},{"$f":"IF(様式第６号の２「入力シート」!$N$11=\"\",\"\",様式第６号の２「入力シート」!$N$11)","v":""},{"$f":"IF(様式第６号の２「入力シート」!$O$11=\"\",\"\",様式第６号の２「入力シート」!$O$11)","v":""},{"$f":"IF(様式第６号の２「入力シート」!$P$11=\"\",\"\",様式第６号の２「入力シート」!$P$11)","v":""},{"$f":"IF(様式第６号の２「入力シート」!$Q$11=\"\",\"\",様式第６号の２「入力シート」!$Q$11)","v":""},{"$f":"IF(様式第６号の２「入力シート」!$R$11=\"\",\"\",様式第６号の２「入力シート」!$R$11)","v":""},{"$f":"IF(様式第６号の２「入力シート」!$S$11=\"\",\"\",様式第６号の２「入力シート」!$S$11)","v":""},{"$f":"IF(様式第６号の２「入力シート」!$T$11=\"\",\"\",様式第６号の２「入力シート」!$T$11)","v":""},{"$f":"IF(様式第６号の２「入力シート」!$U$11=\"\",\"\",様式第６号の２「入力シート」!$U$11)","v":""}]
[]
["申請項目",null,null,"⑤","⑥","⑦","⑧","⑨"]
[null,null,null,{"$f":"IF(様式第６号の２「入力シート」!$I$14=\"\",\"\",様式第６号の２「入力シート」!$I$14)","v":""},{"$f":"IF(様式第６号の２「入力シート」!$I$16=\"\",\"\",様式第６号の２「入力シート」!$I$16)","v":""},{"$f":"IF(様式第６号の２「入力シート」!$I$18=\"\",\"\",様式第６号の２「入力シート」!$I$18)","v":""},{"$f":"IF(様式第６号の２「入力シート」!$I$20=\"\",\"\",様式第６号の２「入力シート」!$I$20)","v":""},{"$f":"IF(様式第６号の２「入力シート」!$I$24=\"\",\"\",様式第６号の２「入力シート」!$I$24)","v":""}]

{"sheet":"様式第６号の２「入力シート」","index":1,"n_rows":24,"n_cols":42,"rows_kept":24,"cut":false,"hidden":false,"merged":[[7,1,7,7],[9,41,9,42],[1,28,2,30],[9,1,9,27],[6,28,6,41],[2,1,2,7],[3,1,3,7],[4,1,4,7],[4,28,4,41],[2,8,2,20],[3,8,3,20],[5,1,5,6],[5,28,5,41],[6,1,6,7],[1,31,2,42],[23,28,24,41],[13,1,14,7],[13,9,13,20],[13,28,16,41],[14,9,14,20],[15,1,16,7],[15,9,15,20],[16,9,16,20],[17,1,18,7],[17,9,17,20],[18,9,18,20],[23,1,24,7],[23,9,23,13],[19,1,21,7],[19,28,21,41],[10,28,11,41],[19,9,19,26],[10,1,11,7],[20,9,20,27],[21,9,21,27],[12,1,12,24],[11,9,11,26]]}
["様式第6号の2　　　　　　　　　　　　　　　　　　　　　　　　　　　　　　　　　　　　　　　　　建設工事入札参加資格調書（その１　県外業者用）",null,null,null,null,null,null,null,null,null,null,null,null,null,null,null,null,null,null,null,null,null,null,null,null,null,null,null,null,null,null,null,null,"Ver01"]
[null,null,null,null,null,null,null,null,null,null,null,null,null,null,null,null,null,null,null,null,null,null,null,null,null,null,null,null,"行政庁記入欄"]
[null,"商号又は名称"]
[null,"代表者氏名"]
[1,"許可番号",null,null,null,null,null,null,null,null,"－",null,null,null,null,null,null,null,null,null,null,null,null,null,null,null,null,null,"※例えば、大臣許可の場合は００－６桁の許可番号、茨城県知事許可の場合は０８－６桁の許可番号を記入"]
[null,"取消前の許可番号\n（該当者のみ記入）",null,null,null,null,null,null,null,null,"－",null,null,null,null,null,null,null,null,null,null,null,null,null,null,null,null,null,"※R3・4またはR5・6入札参加資格を持っていて許可取り消しにより、資格を取り消された場合は、取消前の許可番号を記入"]
[2,"審査基準日",null,null,null,null,null,null,null,null,"年",null,null,"月",null,null,"日",null,null,null,null,null,null,null,null,null,null,null,"※経営事項審査の審査基準日を記入（和暦で元号表示なし）\n数字で入力、何も入力がない場合は「0」を入力（空白は入力不可）"]
[3,"主たる営業所の電話番号",null,null,null,null,null,null,null,null,null,null,null,null,null,null,null,null,null,null,null,null,null,null,null,null,null,null,"※(例)",null,"０","２","９","－","３","０","１","－","４","３","３","４"]
[]
[null,"４以下を記入するときは、必ず右側の確認欄で、調書や確認書類に漏れがないか確認してください。",null,null,null,null,null,null,null,null,null,null,null,null,null,null,null,null,null,null,null,null,null,null,null,null,null,null,"【添付する調書・確認書類】",null,null,null,null,null,null,null,null,null,null,null,null,"行政庁\n確認欄"]
[4,"法人番号（13桁）",null,null,null,null,null,null,{"$f":"IF(V11=12,AA11,\"\")","v":""},null,null,null,null,null,null,null,null,null,null,null,null,{"$f":"LEN(J11)+LEN(K11)+LEN(L11)+LEN(M11)+LEN(N11)+LEN(O11)+LEN(P11)+LEN(Q11)+LEN(R11)+LEN(S11)+LEN(T11)+LEN(U11)","v":0},{"$f":"U11+S11+Q11+O11+M11+K11","v":0},{"$f":"T11+R11+P11+N11+L11+J11","v":0},{"$f":"X11*2+W11","v":0},{"$f":"MOD(Y11,9)","v":0},{"$f":"9-Z11","v":9},null,"法人番号について\n※個人事業主は記載不要\n※国税庁長官が発行する法人番号指定通知書の写し、\n　　または、国税庁法人番号公表サイトで確認してください。\n※確認資料の添付は不要"]
[null,null,null,null,null,null,null,null,null,"※先頭から２～１３桁目の１２桁を入力して下さい。先頭１桁目のチェックデジットは\n　 自動で計算し設定されます。"]
[null,"5以下を電子データで入力するときは、必ず表示が背景色なしになることを確認してください。"]
[5,"健康保険の加入状況",null,null,null,null,null,null,null,"１：加入（審査基準日）　２：適用除外",null,null,null,null,null,null,null,null,null,null,null,null,null,null,null,null,null,null,"健康保険、厚生年金保険、雇用保険の加入状況について\n※経審の結果通知書で「加入」、「適用除外」が\n　確認できない場合、申請は受付けません。\n\n※１加入、２適用除外の場合とも確認書類の添付は不要\n　　（別に提出している経審の結果通知書で確認します。）"]
[]
[6,"厚生年金保険の加入状況",null,null,null,null,null,null,null,"１：加入（審査基準日）　２：適用除外"]
[]
[7,"雇用保険の加入状況",null,null,null,null,null,null,null,"１：加入（審査基準日）　２：適用除外"]
[]
[8,"法定外の労働災害補償保険の加入状況\n",null,null,null,null,null,null,null,"０：未加入　１：総合評定値通知書により確認　２：法定外労災保険の加入資料により確認",null,null,null,null,null,null,null,null,null,null,null,null,null,null,null,null,null,null,"※２の場合は、\n　・法定外労災保険への加入が確認できる書類\n　（法定外労働災害補償制度加入証明書、保険契約証明書、保険証券等の写し）"]
[]
[]
[]
[9,"舗装工事特別技術職員（茨城県の舗装Ａ等級を希望する場合）",null,null,null,null,null,null,null,"０：いない　１：いる",null,null,null,null,null,"※当組合では取扱いがないため、0を記載してください。"]